BEGIN:VCALENDAR
VERSION:2.0
PRODID:-//wp-events-plugin.com//7.2.3.1//EN
TZID:Europe/London
X-WR-TIMEZONE:Europe/London
BEGIN:VEVENT
UID:12569@glade.org
DTSTART;TZID=Europe/London;VALUE=DATE:20280601
DTEND;TZID=Europe/London;VALUE=DATE:20280603
DTSTAMP:20191114T133308Z
URL:https://glade.org/events/global-day-of-parents-2028-06-01/
SUMMARY:Global Day of Parents
DESCRIPTION:The Global Day of Parents is observed on the 1st of June every 
 year. The Day was proclaimed by the UN General Assembly in 2012 with resol
 utionA/RES/66/292 and honours parents throughout the world. The Global Day
  provides an opportunity to appreciate all parents in all parts of the wor
 ld for their selfless commitment to children and their lifelong sacrifice 
 towards nurturing this relationship.\n\nIn its resolution\, the General As
 sembly also noted that the family has the primary responsibility for the n
 urturing and protection of children and that children\, for the full and h
 armonious development of their personality\, should grow up in a family en
 vironment and in an atmosphere of happiness\, love and understanding.\n\nT
 he resolution recognizes the role of parents in the rearing of children an
 d invites Member States to celebrate the Day in full partnership with civi
 l society\, particularly involving young people and children.\n\n[button l
 ink="/tag/global-day-of-parents/" type="icon" icon="search"] Continue to 
 related posts![/button]
CATEGORIES:International Day
END:VEVENT
BEGIN:VTIMEZONE
TZID:Europe/London
X-LIC-LOCATION:Europe/London
BEGIN:DAYLIGHT
DTSTART:20280326T020000
TZOFFSETFROM:+0000
TZOFFSETTO:+0100
TZNAME:BST
END:DAYLIGHT
END:VTIMEZONE
END:VCALENDAR