BEGIN:VCALENDAR
VERSION:2.0
PRODID:-//wp-events-plugin.com//7.2.3.1//EN
TZID:Europe/London
X-WR-TIMEZONE:Europe/London
BEGIN:VEVENT
UID:12043@glade.org
DTSTART;TZID=Europe/London;VALUE=DATE:20300221
DTEND;TZID=Europe/London;VALUE=DATE:20300223
DTSTAMP:20191114T131807Z
URL:https://glade.org/events/international-mother-language-day-2030-02-21/
SUMMARY:International Mother Language Day
DESCRIPTION:International Mother Language Day is an observance held annuall
 y on 21 February worldwide to promote awareness of linguistic and cultural
  diversity and multilingualism. It was first announced by UNESCO on 17 Nov
 ember 1999. Its observance was also formally recognized by the United Nati
 ons General Assembly in its resolution establishing 2008 as the Internatio
 nal Year of Languages.[1]\n\n[button link="/tag/international-mother-langu
 age-day/" type="icon" icon="search"]Continue to related posts![/button]
CATEGORIES:International Day
END:VEVENT
BEGIN:VTIMEZONE
TZID:Europe/London
X-LIC-LOCATION:Europe/London
BEGIN:STANDARD
DTSTART:20291028T010000
TZOFFSETFROM:+0100
TZOFFSETTO:+0000
TZNAME:GMT
END:STANDARD
END:VTIMEZONE
END:VCALENDAR