BEGIN:VCALENDAR
VERSION:2.0
PRODID:-//wp-events-plugin.com//7.2.3.1//EN
TZID:Europe/London
X-WR-TIMEZONE:Europe/London
BEGIN:VEVENT
UID:13334@glade.org
DTSTART;TZID=Europe/London;VALUE=DATE:20260501
DTEND;TZID=Europe/London;VALUE=DATE:20260503
DTSTAMP:20191114T135440Z
URL:https://glade.org/events/international-workers-day-2026-05-01/
SUMMARY:International Workers' Day
DESCRIPTION:International Workers' Day\, also known as Labour Day in some c
 ountries\, is a celebration of labourers and the working classesthat is pr
 omoted by the international labour movement\, socialists\, communists and 
 anarchists and occurs every year on May Day (1 May)\, an ancient European 
 spring festival.[1][2] The date was chosen for International Workers' Day 
 by the Second International\, a pan-national organization of socialist and
  communist political parties\, to commemorate the Haymarket affair\, which
  occurred inChicago on 4 May 1886.[2] The 1904 International Socialist Con
 ference in Amsterdam\, the Sixth Conference of the Second International\, 
 called on "all Social Democratic Party organisations and trade unions of a
 ll countries to demonstrate energetically on the First of May for the lega
 l establishment of the 8-hour day\, for the class demands of the proletari
 at\, and for universal peace."[3]\n\nBeing a traditional European spring c
 elebration\, May Day is a national public holiday in many countries\, but 
 in only some of those countries is it celebrated specifically as "Labour D
 ay" or "International Workers' Day". Some countries celebrate a Labour Day
  on other dates significant to them\, such as the United States\, which ce
 lebrates Labor Day on the first Monday of September.\n\n[button link="/tag
 /international-workers-day/" type="icon" icon="search"] Continue to relat
 ed posts![/button]
CATEGORIES:International Day
END:VEVENT
BEGIN:VTIMEZONE
TZID:Europe/London
X-LIC-LOCATION:Europe/London
BEGIN:DAYLIGHT
DTSTART:20260329T020000
TZOFFSETFROM:+0000
TZOFFSETTO:+0100
TZNAME:BST
END:DAYLIGHT
END:VTIMEZONE
END:VCALENDAR