BEGIN:VCALENDAR
VERSION:2.0
PRODID:-//wp-events-plugin.com//7.2.3.1//EN
TZID:Europe/London
X-WR-TIMEZONE:Europe/London
BEGIN:VEVENT
UID:12907@glade.org
DTSTART;TZID=Europe/London;VALUE=DATE:20301005
DTEND;TZID=Europe/London;VALUE=DATE:20301007
DTSTAMP:20191114T134251Z
URL:https://glade.org/events/world-teachers-day-2030-10-05/
SUMMARY:World Teachers’ Day
DESCRIPTION:World Teachers' Day\, held annually on October 5th since 1994\,
  commemorates teachers’ organizations worldwide. Its aim is to mobilize 
 support for teachers and to ensure that the needs of future generations wi
 ll continue to be met by teachers.\n\nAccording to UNESCO\, World Teachers
 ' Day represents a significant token of the awareness\, understanding and 
 appreciation displayed for the vital contribution that teachers make to ed
 ucation and development.\n\nEducation International (EI) (the global union
  federation that represents education professionals worldwide) strongly be
 lieves that World Teachers' Day should be internationally recognized and c
 elebrated around the world. EI also believes that the principles of the 19
 66 and 1997 Recommendations should be considered for implementation in all
  nations.\n\nOver 100 countries observe World Teachers' Day. The efforts o
 f Education International and its 401 member organizations have contribute
 d to this widely spread recognition. Every year\, EI launches a public awa
 reness campaign to highlight the contributions of the teaching profession.
 \n\n[button link="/tag/world-teachers-day/" type="icon" icon="search"] Con
 tinue to related posts![/button]
CATEGORIES:International Day
END:VEVENT
BEGIN:VTIMEZONE
TZID:Europe/London
X-LIC-LOCATION:Europe/London
BEGIN:DAYLIGHT
DTSTART:20300331T020000
TZOFFSETFROM:+0000
TZOFFSETTO:+0100
TZNAME:BST
END:DAYLIGHT
END:VTIMEZONE
END:VCALENDAR